0.00936062899502839
0.000000
0.000000
-0.00936062899502839
-107.348506552956
42.355491957231
