0.00874300870028411
0.000000
0.000000
-0.00874300870028411
-106.247528908469
37.0349542097612
