0.00976917613636365
0.000000
0.000000
-0.00976917613636365
-76.9898712435636
45.2676373845881
