0.00923325972123578
0.000000
0.000000
-0.00923325972123578
-78.2053637279164
41.3605300071023
