0.0105132779208096
0.000000
0.000000
-0.0105132779208096
-95.3587258217551
49.7228965897994
