0.00909889914772729
0.000000
0.000000
-0.00909889914772729
-102.69312261408
40.2586494029652
