0.00932151100852271
0.000000
0.000000
-0.00932151100852271
-124.423796331232
42.0547531544078
