0.00996903852982953
0.000000
0.000000
-0.00996903852982953
-94.1767289317738
46.5595029380105
