0.00797815496271307
0.000000
0.000000
-0.00797815496271307
-82.8024594254927
27.8010035982999
