0.00879794034090911
0.000000
0.000000
-0.00879794034090911
-109.457981178977
37.5650361494585
