0.00916098854758521
0.000000
0.000000
-0.00916098854758521
-90.4677150934393
40.7746896778453
