0.00897669011896307
0.000000
0.000000
-0.00897669011896307
-100.81651704268
39.2051025668058
