0.00876450972123578
0.000000
0.000000
-0.00876450972123578
-123.020974384655
37.2438591696999
