0.00838306773792614
0.000000
0.000000
-0.00838306773792614
-85.5127276888761
33.1911514837092
