0.00812577681107953
0.000000
0.000000
-0.00812577681107953
-84.8356705821644
29.9355256583474
