0.00881322687322443
0.000000
0.000000
-0.00881322687322443
-97.0015609602495
37.710231142911
