0.0103005426580256
0.000000
0.000000
-0.0103005426580256
-126.049009413286
48.5424991122159
