0.00918615167791193
0.000000
0.000000
-0.00918615167791193
-106.932252183394
40.9805982693759
