0.00902554598721589
0.000000
0.000000
-0.00902554598721589
-124.600154196999
39.6325111527876
