0.0105533669211648
0.000000
0.000000
-0.0105533669211648
-117.14573400324
49.9378995860707
