0.00891068892045453
0.000000
0.000000
-0.00891068892045453
-86.0707517589222
38.6139833762429
