0.00875790682705964
0.000000
0.000000
-0.00875790682705964
-79.4989925453879
37.1800464005904
