0.0108303278142756
0.000000
0.000000
-0.0108303278142756
-104.107681593461
51.3659265414151
