0.009493408203125
0.000000
0.000000
-0.009493408203125
-119.645277709961
43.3459422302246
