0.00864218971946021
0.000000
0.000000
-0.00864218971946021
-104.402338811701
36.0262804066051
