0.00958301890980114
0.000000
0.000000
-0.00958301890980114
-88.5701111117276
43.9895398504084
