0.00860590154474432
0.000000
0.000000
-0.00860590154474432
-114.246466230913
35.6513214388761
