0.00935005881569604
0.000000
0.000000
-0.00935005881569604
-89.0803413945978
42.274591328014
