0.003183665990938162
0.00000
0.00000
-0.002784685360144482
-96.19709979728147
30.28174434157319
