0.00892733487215911
0.000000
0.000000
-0.00892733487215911
-122.304733498313
38.7645525984331
