0.00775385076349428
0.000000
0.000000
-0.00775385076349428
-161.877270979448
24.0254313937101
