0.00739768288352271
0.000000
0.000000
-0.00739768288352271
142.595398615057
15.4836640201915
