0.0107907936789773
0.000000
0.000000
-0.0107907936789773
-109.85584325617
51.1680741466175
