0.00861319802024146
0.000000
0.000000
-0.00861319802024146
-87.1456546991522
35.7273218189586
