0.00879233620383521
0.000000
0.000000
-0.00879233620383521
-120.193302251642
37.5114958607067
