0.00835479736328125
0.000000
0.000000
-0.00835479736328125
-88.4232594299316
32.8573910522461
