0.00847118030894885
0.000000
0.000000
-0.00847118030894885
-109.235116549405
34.1983381860906
