0.00853326970880682
0.000000
0.000000
-0.00853326970880682
-101.809712080522
34.8803807345304
