0.00978707053444604
0.000000
0.000000
-0.00978707053444604
-86.4032277471369
45.3865516246449
