0.00963825572620739
0.000000
0.000000
-0.00963825572620739
-96.609657162753
44.3767001897639
