0.00938260165127839
0.000000
0.000000
-0.00938260165127839
-77.2210923073508
42.5225227494673
