0.00791232022372161
0.000000
0.000000
-0.00791232022372161
-84.0727428366921
26.7689320234819
