0.00859441583806818
0.000000
0.000000
-0.00859441583806818
-89.3440241865678
35.5311680325595
