0.00900523792613635
0.000000
0.000000
-0.00900523792613635
-79.7050719937411
39.4559389703924
