0.0141447864879261
0.000000
0.000000
-0.0141447864879261
-150.537358426181
63.3447456914728
