0.0147268399325284
0.000000
0.000000
-0.0147268399325284
-166.284681479714
64.8355168290572
