0.008533776882083
0.000000000000000
0.000000000000000
-0.008533776882083
-68.621896718442201
20.454417974623624
