0.008529191450639
0.000000000000000
0.000000000000000
-0.008529191450639
-117.210491069447000
34.836261985085201
