0.009957885742188
0.000000000000000
0.000000000000000
-0.009957885742188
-78.662387084960898
46.489440155029300
