0.008764287775213
0.000000000000000
0.000000000000000
-0.008764287775213
-94.886905226273996
37.241795529452197
